BEGIN:VCALENDAR
VERSION:2.0
PRODID:Festa em Honra de São Marcos 
X-WR-CALNAME:Festa em Honra de São Marcos 
X-WR-TIMEZONE:Europe/Lisbon
X-PUBLISHED-TTL:P1W
BEGIN:VTIMEZONE
TZID:Europe/Lisbon
X-LIC-LOCATION:Europe/Lisbon
END:VTIMEZONE
BEGIN:VEVENT
UID:69eb784487c3d
DTSTART;VALUE=DATE:20260425
SEQUENCE:0
TRANSP:OPAQUE
DTEND;VALUE=DATE:20260426
SUMMARY:Festa em Honra de São Marcos 
CLASS:PUBLIC
DESCRIPTION:Festa em honra de São Marcos\, divulgação solicitada pelos m
 ordomos. 
X-MICROSOFT-CDO-ALLDAYEVENT:TRUE
DTSTAMP:20260424T140348Z
END:VEVENT
END:VCALENDAR