BEGIN:VCALENDAR
VERSION:2.0
PRODID:Maio – Mês de Maria
X-WR-CALNAME:Maio – Mês de Maria
X-WR-TIMEZONE:Europe/Lisbon
X-PUBLISHED-TTL:P1W
BEGIN:VTIMEZONE
TZID:Europe/Lisbon
X-LIC-LOCATION:Europe/Lisbon
END:VTIMEZONE
BEGIN:VEVENT
UID:69eb77d6880c7
DTSTART;VALUE=DATE:20260512
SEQUENCE:0
TRANSP:OPAQUE
DTEND;VALUE=DATE:20260513
SUMMARY:Maio – Mês de Maria
CLASS:PUBLIC
DESCRIPTION:Oração do terçoUm encontro de fé\, oração e esperança&nb
 sp\;Monte de São Marcos - Santiago de Besteiros&nbsp\;Aberto à Comunidad
 e&nbsp\;
X-MICROSOFT-CDO-ALLDAYEVENT:TRUE
DTSTAMP:20260424T140158Z
END:VEVENT
END:VCALENDAR